BEGIN:VCALENDAR
VERSION:2.0
PRODID:-//DRMAC - ECPv6.9.0//NONSGML v1.0//EN
CALSCALE:GREGORIAN
METHOD:PUBLISH
X-ORIGINAL-URL:https://drmac-co.org
X-WR-CALDESC:Events for DRMAC
REFRESH-INTERVAL;VALUE=DURATION:PT1H
X-Robots-Tag:noindex
X-PUBLISHED-TTL:PT1H
BEGIN:VTIMEZONE
TZID:America/Denver
BEGIN:DAYLIGHT
TZOFFSETFROM:-0700
TZOFFSETTO:-0600
TZNAME:MDT
DTSTART:20250309T090000
END:DAYLIGHT
BEGIN:STANDARD
TZOFFSETFROM:-0600
TZOFFSETTO:-0700
TZNAME:MST
DTSTART:20251102T080000
END:STANDARD
END:VTIMEZONE
BEGIN:VEVENT
DTSTART;TZID=America/Denver:20250304T133000
DTEND;TZID=America/Denver:20250304T150000
DTSTAMP:20260419T223436
CREATED:20250113T184534Z
LAST-MODIFIED:20250113T191343Z
UID:13186-1741095000-1741100400@drmac-co.org
SUMMARY:DRMAC - Regional Coordinating Council (RCC)
DESCRIPTION:How to be an Active Community Advocate
URL:https://drmac-co.org/event/drmac-regional-coordinating-council-rcc/
CATEGORIES:Regional Coordinating Council
ATTACH;FMTTYPE=image/png:https://drmac-co.org/wp-content/uploads/2025/01/DRMAC-Logo-PNG.png
END:VEVENT
END:VCALENDAR