BEGIN:VCALENDAR
VERSION:2.0
PRODID:-//DRMAC - ECPv6.9.0//NONSGML v1.0//EN
CALSCALE:GREGORIAN
METHOD:PUBLISH
X-ORIGINAL-URL:https://drmac-co.org
X-WR-CALDESC:Events for DRMAC
REFRESH-INTERVAL;VALUE=DURATION:PT1H
X-Robots-Tag:noindex
X-PUBLISHED-TTL:PT1H
BEGIN:VTIMEZONE
TZID:America/Denver
BEGIN:DAYLIGHT
TZOFFSETFROM:-0700
TZOFFSETTO:-0600
TZNAME:MDT
DTSTART:20250309T090000
END:DAYLIGHT
BEGIN:STANDARD
TZOFFSETFROM:-0600
TZOFFSETTO:-0700
TZNAME:MST
DTSTART:20251102T080000
END:STANDARD
END:VTIMEZONE
BEGIN:VEVENT
DTSTART;TZID=America/Denver:20250728T090000
DTEND;TZID=America/Denver:20250728T120000
DTSTAMP:20260419T193749
CREATED:20250715T200417Z
LAST-MODIFIED:20250715T200554Z
UID:14689-1753693200-1753704000@drmac-co.org
SUMMARY:DRMAC in the Community: Back to School Resource Fair
DESCRIPTION:The Sensory Club of Denver and CANOE are co-hosting a back to school fair for students with disabilities. July 28th 9 – 12noon at Sensory Club in Englewood\, CO. \nThere will be 14 vendors available talking about local resources for the community including CCBS\, after-school programs\, programs for DME\, food banks\, school advocacy\, and much more. There will also be a backpack drive with school supplies for those in need\, sensory gym time play slots\, and food vendors.
URL:https://drmac-co.org/event/drmac-in-the-community-back-to-school-resource-fair/
LOCATION:Sensory Club\, 4301 South Federal Blvd\, Englewood\, CO\, 80110\, United States
CATEGORIES:Community Partnership,Educational Offering
ATTACH;FMTTYPE=image/png:https://drmac-co.org/wp-content/uploads/2025/07/Developmental-Pathways.png
END:VEVENT
BEGIN:VEVENT
DTSTART;TZID=America/Denver:20250731T170000
DTEND;TZID=America/Denver:20250731T210000
DTSTAMP:20260419T193749
CREATED:20250715T201247Z
LAST-MODIFIED:20250715T201312Z
UID:14695-1753981200-1753995600@drmac-co.org
SUMMARY:DRMAC in the Community: Denver Day Barnum Rec Center Backpack Drive & Movie Night
DESCRIPTION:
URL:https://drmac-co.org/event/drmac-in-the-community-denver-day-barnum-rec-center-backpack-drive-movie-night/
CATEGORIES:Community Partnership
END:VEVENT
BEGIN:VEVENT
DTSTART;TZID=America/Denver:20250802T100000
DTEND;TZID=America/Denver:20250802T140000
DTSTAMP:20260419T193749
CREATED:20250715T201915Z
LAST-MODIFIED:20250715T201915Z
UID:14698-1754128800-1754143200@drmac-co.org
SUMMARY:DRMAC in the Community: Annual School Supply Giveaway
DESCRIPTION:
URL:https://drmac-co.org/event/drmac-in-the-community-annual-school-supply-giveaway/
CATEGORIES:Community Partnership
END:VEVENT
BEGIN:VEVENT
DTSTART;TZID=America/Denver:20250805T133000
DTEND;TZID=America/Denver:20250805T150000
DTSTAMP:20260419T193749
CREATED:20250113T191832Z
LAST-MODIFIED:20250113T191832Z
UID:13241-1754400600-1754406000@drmac-co.org
SUMMARY:DRMAC - Member meeting
DESCRIPTION:Member networking event
URL:https://drmac-co.org/event/drmac-member-meeting-3/
LOCATION:Zoom
CATEGORIES:Member Meeting
ATTACH;FMTTYPE=image/png:https://drmac-co.org/wp-content/uploads/2025/01/DRMAC-Logo-PNG.png
END:VEVENT
BEGIN:VEVENT
DTSTART;TZID=America/Denver:20250816T110000
DTEND;TZID=America/Denver:20250816T140000
DTSTAMP:20260419T193749
CREATED:20250807T174244Z
LAST-MODIFIED:20250807T174553Z
UID:14769-1755342000-1755352800@drmac-co.org
SUMMARY:DRMAC in the Community: DPS Back to School
DESCRIPTION:
URL:https://drmac-co.org/event/drmac-in-the-community-dps-back-to-school/
LOCATION:Evie Dennis\, 4800 Telluride St.\, Denver\, CO\, United States
CATEGORIES:Educational Offering
ATTACH;FMTTYPE=image/png:https://drmac-co.org/wp-content/uploads/2019/01/drmac_logo_tp.png
END:VEVENT
BEGIN:VEVENT
DTSTART;VALUE=DATE:20250822
DTEND;VALUE=DATE:20250823
DTSTAMP:20260419T193749
CREATED:20250807T182500Z
LAST-MODIFIED:20250807T182649Z
UID:14775-1755820800-1755907199@drmac-co.org
SUMMARY:DRMAC in the Community: Adaptive Adventures
DESCRIPTION:
URL:https://drmac-co.org/event/drmac-in-the-community-adaptive-adventures/
LOCATION:Standley Lake\, 11610 W 100th Ave. Westminster\, CO 80021\, Westminster
CATEGORIES:Community Partnership,Educational Offering
ATTACH;FMTTYPE=image/png:https://drmac-co.org/wp-content/uploads/2025/01/DRMAC-Logo-PNG.png
END:VEVENT
BEGIN:VEVENT
DTSTART;TZID=America/Denver:20250909T133000
DTEND;TZID=America/Denver:20250909T150000
DTSTAMP:20260419T193749
CREATED:20250113T191959Z
LAST-MODIFIED:20250113T191959Z
UID:13244-1757424600-1757430000@drmac-co.org
SUMMARY:DRMAC - Regional Coordinating Council (RCC)
DESCRIPTION:Accessible Winter Outdoor Activities
URL:https://drmac-co.org/event/drmac-regional-coordinating-council-rcc-3/
LOCATION:Zoom
CATEGORIES:Regional Coordinating Council
ATTACH;FMTTYPE=image/png:https://drmac-co.org/wp-content/uploads/2025/01/DRMAC-Logo-PNG.png
END:VEVENT
BEGIN:VEVENT
DTSTART;TZID=America/Denver:20250916T163000
DTEND;TZID=America/Denver:20250916T183000
DTSTAMP:20260419T193749
CREATED:20250908T205141Z
LAST-MODIFIED:20250908T205254Z
UID:14876-1758040200-1758047400@drmac-co.org
SUMMARY:DRMAC in the Community: 6th Annual Volunteer March
DESCRIPTION:Connect with nonprofit organizations serving Broomfield and find meaningful volunteer opportunities! \nTuesday\, September 16\, 2025. 4:30 – 6:30 PM\nBroomfield Community Center – 280 Spader Way\, Broomfield\, CO
URL:https://drmac-co.org/event/drmac-in-the-community-6th-annual-volunteer-march/
LOCATION:280 Spader Way\, Broomfield\, CO
ATTACH;FMTTYPE=image/png:https://drmac-co.org/wp-content/uploads/2025/09/Broomfield.png
END:VEVENT
BEGIN:VEVENT
DTSTART;TZID=America/Denver:20251007T133000
DTEND;TZID=America/Denver:20251007T150000
DTSTAMP:20260419T193749
CREATED:20250113T192058Z
LAST-MODIFIED:20250113T192058Z
UID:13247-1759843800-1759849200@drmac-co.org
SUMMARY:DRMAC - Transportation options workshop
DESCRIPTION:Learn about the transit options in your area
URL:https://drmac-co.org/event/drmac-transportation-options-workshop/
LOCATION:Zoom
CATEGORIES:Educational Offering
ATTACH;FMTTYPE=image/png:https://drmac-co.org/wp-content/uploads/2025/01/DRMAC-Logo-PNG.png
END:VEVENT
BEGIN:VEVENT
DTSTART;TZID=America/Denver:20251111T133000
DTEND;TZID=America/Denver:20251111T150000
DTSTAMP:20260419T193749
CREATED:20250113T192155Z
LAST-MODIFIED:20250113T192155Z
UID:13250-1762867800-1762873200@drmac-co.org
SUMMARY:DRMAC - Member meeting
DESCRIPTION:Coffee Hour & Networking
URL:https://drmac-co.org/event/drmac-member-meeting-4/
LOCATION:Zoom
CATEGORIES:Member Meeting
ATTACH;FMTTYPE=image/png:https://drmac-co.org/wp-content/uploads/2025/01/DRMAC-Logo-PNG.png
END:VEVENT
BEGIN:VEVENT
DTSTART;TZID=America/Denver:20251202T133000
DTEND;TZID=America/Denver:20251202T150000
DTSTAMP:20260419T193749
CREATED:20250113T192546Z
LAST-MODIFIED:20250113T192546Z
UID:13253-1764682200-1764687600@drmac-co.org
SUMMARY:DRMAC Annual meeting
DESCRIPTION:Celebrate 2025 with DRMAC!
URL:https://drmac-co.org/event/drmac-annual-meeting/
LOCATION:Zoom
CATEGORIES:Regional Coordinating Council
ATTACH;FMTTYPE=image/png:https://drmac-co.org/wp-content/uploads/2025/01/DRMAC-Logo-PNG.png
END:VEVENT
END:VCALENDAR