BEGIN:VCALENDAR
VERSION:2.0
PRODID:-//DRMAC - ECPv6.9.0//NONSGML v1.0//EN
CALSCALE:GREGORIAN
METHOD:PUBLISH
X-ORIGINAL-URL:https://drmac-co.org
X-WR-CALDESC:Events for DRMAC
REFRESH-INTERVAL;VALUE=DURATION:PT1H
X-Robots-Tag:noindex
X-PUBLISHED-TTL:PT1H
BEGIN:VTIMEZONE
TZID:America/Denver
BEGIN:DAYLIGHT
TZOFFSETFROM:-0700
TZOFFSETTO:-0600
TZNAME:MDT
DTSTART:20250309T090000
END:DAYLIGHT
BEGIN:STANDARD
TZOFFSETFROM:-0600
TZOFFSETTO:-0700
TZNAME:MST
DTSTART:20251102T080000
END:STANDARD
END:VTIMEZONE
BEGIN:VEVENT
DTSTART;TZID=America/Denver:20250401T133000
DTEND;TZID=America/Denver:20250401T150000
DTSTAMP:20260419T193403
CREATED:20250113T190534Z
LAST-MODIFIED:20250113T191401Z
UID:13215-1743514200-1743519600@drmac-co.org
SUMMARY:DRMAC - Educational offering
DESCRIPTION:How to support older adults and youth
URL:https://drmac-co.org/event/drmac-educational-offering/
LOCATION:Zoom
ATTACH;FMTTYPE=image/png:https://drmac-co.org/wp-content/uploads/2025/01/DRMAC-Logo-PNG.png
END:VEVENT
BEGIN:VEVENT
DTSTART;TZID=America/Denver:20250417T140000
DTEND;TZID=America/Denver:20250417T170000
DTSTAMP:20260419T193403
CREATED:20250326T201719Z
LAST-MODIFIED:20250326T201719Z
UID:14231-1744898400-1744909200@drmac-co.org
SUMMARY:DRMAC in the Community: Englewood Healthy Aging Expo
DESCRIPTION:We’re going to be at the Englewood Healthy Aging Expo run by the Englewood city government on April 17th! \nCheck out the latest in resources for older adults! This free event offers information from 70+ agencies on topics including nutrition\, wellness\, active aging\, local community services\, aging in place\, caregiving\, safety and much more.
URL:https://drmac-co.org/event/drmac-in-the-community-englewood-healthy-aging-expo/
LOCATION:Malley Recreation Center\, 3380 S Lincoln St\, Englewood\, CO\, 80113\, United States
CATEGORIES:Community Partnership,Educational Offering
ATTACH;FMTTYPE=image/png:https://drmac-co.org/wp-content/uploads/2025/03/Healthy-Aging-Expo.png
END:VEVENT
END:VCALENDAR