BEGIN:VCALENDAR
VERSION:2.0
PRODID:-//DRMAC - ECPv6.9.0//NONSGML v1.0//EN
CALSCALE:GREGORIAN
METHOD:PUBLISH
X-ORIGINAL-URL:https://drmac-co.org
X-WR-CALDESC:Events for DRMAC
REFRESH-INTERVAL;VALUE=DURATION:PT1H
X-Robots-Tag:noindex
X-PUBLISHED-TTL:PT1H
BEGIN:VTIMEZONE
TZID:America/Denver
BEGIN:DAYLIGHT
TZOFFSETFROM:-0700
TZOFFSETTO:-0600
TZNAME:MDT
DTSTART:20250309T090000
END:DAYLIGHT
BEGIN:STANDARD
TZOFFSETFROM:-0600
TZOFFSETTO:-0700
TZNAME:MST
DTSTART:20251102T080000
END:STANDARD
END:VTIMEZONE
BEGIN:VEVENT
DTSTART;TZID=America/Denver:20250708T133000
DTEND;TZID=America/Denver:20250708T150000
DTSTAMP:20260419T150658
CREATED:20250113T191724Z
LAST-MODIFIED:20250113T191724Z
UID:13238-1751981400-1751986800@drmac-co.org
SUMMARY:DRMAC - Educational offering
DESCRIPTION:How to support people with disabilities and Veterans
URL:https://drmac-co.org/event/drmac-educational-offering-2/
LOCATION:Zoom
CATEGORIES:Educational Offering
ATTACH;FMTTYPE=image/png:https://drmac-co.org/wp-content/uploads/2025/01/DRMAC-Logo-PNG.png
END:VEVENT
BEGIN:VEVENT
DTSTART;TZID=America/Denver:20250728T090000
DTEND;TZID=America/Denver:20250728T120000
DTSTAMP:20260419T150658
CREATED:20250715T200417Z
LAST-MODIFIED:20250715T200554Z
UID:14689-1753693200-1753704000@drmac-co.org
SUMMARY:DRMAC in the Community: Back to School Resource Fair
DESCRIPTION:The Sensory Club of Denver and CANOE are co-hosting a back to school fair for students with disabilities. July 28th 9 – 12noon at Sensory Club in Englewood\, CO. \nThere will be 14 vendors available talking about local resources for the community including CCBS\, after-school programs\, programs for DME\, food banks\, school advocacy\, and much more. There will also be a backpack drive with school supplies for those in need\, sensory gym time play slots\, and food vendors.
URL:https://drmac-co.org/event/drmac-in-the-community-back-to-school-resource-fair/
LOCATION:Sensory Club\, 4301 South Federal Blvd\, Englewood\, CO\, 80110\, United States
CATEGORIES:Community Partnership,Educational Offering
ATTACH;FMTTYPE=image/png:https://drmac-co.org/wp-content/uploads/2025/07/Developmental-Pathways.png
END:VEVENT
BEGIN:VEVENT
DTSTART;TZID=America/Denver:20250731T170000
DTEND;TZID=America/Denver:20250731T210000
DTSTAMP:20260419T150658
CREATED:20250715T201247Z
LAST-MODIFIED:20250715T201312Z
UID:14695-1753981200-1753995600@drmac-co.org
SUMMARY:DRMAC in the Community: Denver Day Barnum Rec Center Backpack Drive & Movie Night
DESCRIPTION:
URL:https://drmac-co.org/event/drmac-in-the-community-denver-day-barnum-rec-center-backpack-drive-movie-night/
CATEGORIES:Community Partnership
END:VEVENT
END:VCALENDAR