BEGIN:VCALENDAR
VERSION:2.0
PRODID:-//DRMAC - ECPv6.9.0//NONSGML v1.0//EN
CALSCALE:GREGORIAN
METHOD:PUBLISH
X-WR-CALNAME:DRMAC
X-ORIGINAL-URL:https://drmac-co.org
X-WR-CALDESC:Events for DRMAC
REFRESH-INTERVAL;VALUE=DURATION:PT1H
X-Robots-Tag:noindex
X-PUBLISHED-TTL:PT1H
BEGIN:VTIMEZONE
TZID:America/Denver
BEGIN:DAYLIGHT
TZOFFSETFROM:-0700
TZOFFSETTO:-0600
TZNAME:MDT
DTSTART:20250309T090000
END:DAYLIGHT
BEGIN:STANDARD
TZOFFSETFROM:-0600
TZOFFSETTO:-0700
TZNAME:MST
DTSTART:20251102T080000
END:STANDARD
END:VTIMEZONE
BEGIN:VEVENT
DTSTART;TZID=America/Denver:20250501T090000
DTEND;TZID=America/Denver:20250501T230000
DTSTAMP:20260419T075301
CREATED:20250326T202359Z
LAST-MODIFIED:20250326T202818Z
UID:14236-1746090000-1746140400@drmac-co.org
SUMMARY:DRMAC in the Community: Active Adult Healthy Living Expo
DESCRIPTION:We’re going to be at the Active Adult Healthy Living Expo hosted by South Suburban Parks & Rec! \nReceive free health checks\, enjoy interactive demos and learn about local resources at South Suburban’s Active Adult Healthy Living Expo on May 1 from 9-11 am at Buck Recreation Center. \nThe event will feature more than 40 exhibitors and demos\, offering a variety of support and services. The expo is free to attend and open to the public\, no registration is required.
URL:https://drmac-co.org/event/drmac-in-the-community-active-adult-healthy-living-expo/
LOCATION:Buck Recreation Center\, 2004 W. Powers Ave.\, LIttleton\, CO\, 80120\, United States
CATEGORIES:Community Partnership,Educational Offering
ATTACH;FMTTYPE=image/png:https://drmac-co.org/wp-content/uploads/2025/03/South-Suberban.png
END:VEVENT
BEGIN:VEVENT
DTSTART;TZID=America/Denver:20250509T083000
DTEND;TZID=America/Denver:20250509T120000
DTSTAMP:20260419T075301
CREATED:20250326T204444Z
LAST-MODIFIED:20250326T204444Z
UID:14241-1746779400-1746792000@drmac-co.org
SUMMARY:DRMAC in the Community: Active Adult Resource Fair
DESCRIPTION:We’re going to be at the Active Adult Resource Fair held by the City of Lakewood! \nLearn about local resources and services at this free Active Adult Resource Fair. Vendors will be attending to share resources for ages 55+. This event is open to older adults\, caregivers and family members. (This event was formerly known as the Older Adult Wellness Fair.)
URL:https://drmac-co.org/event/drmac-in-the-community-active-adult-resource-fair/
LOCATION:Charles Whitlock Recreation Center\, 1555 Dover St\, Lakewood\, CO\, 80215\, United States
CATEGORIES:Community Partnership,Educational Offering
ATTACH;FMTTYPE=image/png:https://drmac-co.org/wp-content/uploads/2025/03/Lakewood.png
END:VEVENT
END:VCALENDAR